BEGIN:VCALENDAR
VERSION:2.0
PRODID:-//Geist Harbours Property Owners Association - ECPv6.14.2//NONSGML v1.0//EN
CALSCALE:GREGORIAN
METHOD:PUBLISH
X-WR-CALNAME:Geist Harbours Property Owners Association
X-ORIGINAL-URL:https://ghpoa.com
X-WR-CALDESC:Events for Geist Harbours Property Owners Association
REFRESH-INTERVAL;VALUE=DURATION:PT1H
X-Robots-Tag:noindex
X-PUBLISHED-TTL:PT1H
BEGIN:VTIMEZONE
TZID:America/Indiana/Indianapolis
BEGIN:DAYLIGHT
TZOFFSETFROM:-0500
TZOFFSETTO:-0400
TZNAME:EDT
DTSTART:20220313T070000
END:DAYLIGHT
BEGIN:STANDARD
TZOFFSETFROM:-0400
TZOFFSETTO:-0500
TZNAME:EST
DTSTART:20221106T060000
END:STANDARD
END:VTIMEZONE
BEGIN:VEVENT
DTSTART;TZID=America/Indiana/Indianapolis:20220118T190000
DTEND;TZID=America/Indiana/Indianapolis:20220118T210000
DTSTAMP:20260424T130132
CREATED:20201125T224519Z
LAST-MODIFIED:20211216T172643Z
UID:905-1642532400-1642539600@ghpoa.com
SUMMARY:GHPOA Annual Meeting
DESCRIPTION:GHPOA Annual Meeting\nJanuary 18th from 7 to 9 p.m. – \nOur 2022 GHPOA Annual Meeting will be held on Tuesday\, January 18\, 2022\, from 7 to 9 p.m. at Amy Beverland Elementary School\, 11650 Fox Road\, Oaklandon\, IN 46236.  Due to the rise in positive COVID cases\, we are also offering a virtual option to join the meeting.  The link for the virtual option will be posted as soon as it becomes available. \nAnd as with all prior annual meetings\, the newly elected Board of Directors will be announced on the community website\, www.ghpoa.com. Thank you for your continued support. We are looking forward to a new year.
URL:https://ghpoa.com/event/ghpoa-annual-meeting-2/
LOCATION:Amy Beverland Elementary School\, 11650 Fox Road\, Oaklandon\, IN\, 46236\, United States
CATEGORIES:GHPOA Annual Meetings
END:VEVENT
END:VCALENDAR