BEGIN:VCALENDAR
VERSION:2.0
PRODID:-//Geist Harbours Property Owners Association - ECPv6.14.2//NONSGML v1.0//EN
CALSCALE:GREGORIAN
METHOD:PUBLISH
X-ORIGINAL-URL:https://ghpoa.com
X-WR-CALDESC:Events for Geist Harbours Property Owners Association
REFRESH-INTERVAL;VALUE=DURATION:PT1H
X-Robots-Tag:noindex
X-PUBLISHED-TTL:PT1H
BEGIN:VTIMEZONE
TZID:UTC
BEGIN:STANDARD
TZOFFSETFROM:+0000
TZOFFSETTO:+0000
TZNAME:UTC
DTSTART:20200101T000000
END:STANDARD
END:VTIMEZONE
BEGIN:VEVENT
DTSTART;TZID=UTC:20201019T000000
DTEND;TZID=UTC:20201019T000000
DTSTAMP:20260425T135200
CREATED:20201002T010841Z
LAST-MODIFIED:20201002T011256Z
UID:388-1603065600-1603065600@ghpoa.com
SUMMARY:October 2020 GHPOA Board Meeting
DESCRIPTION:
URL:https://ghpoa.com/event/october-2020-ghpoa-board-meeting/
END:VEVENT
BEGIN:VEVENT
DTSTART;TZID=UTC:20201031T000000
DTEND;TZID=UTC:20201031T000000
DTSTAMP:20260425T135200
CREATED:20201002T010841Z
LAST-MODIFIED:20201002T011309Z
UID:389-1604102400-1604102400@ghpoa.com
SUMMARY:"Halloween Trunk or Treat"
DESCRIPTION:(Geist Chapel has cancelled this event.)
URL:https://ghpoa.com/event/halloween-trunk-or-treat/
END:VEVENT
END:VCALENDAR