BEGIN:VCALENDAR
VERSION:2.0
PRODID:-//Geist Harbours Property Owners Association - ECPv6.14.2//NONSGML v1.0//EN
CALSCALE:GREGORIAN
METHOD:PUBLISH
X-WR-CALNAME:Geist Harbours Property Owners Association
X-ORIGINAL-URL:https://ghpoa.com
X-WR-CALDESC:Events for Geist Harbours Property Owners Association
REFRESH-INTERVAL;VALUE=DURATION:PT1H
X-Robots-Tag:noindex
X-PUBLISHED-TTL:PT1H
BEGIN:VTIMEZONE
TZID:UTC
BEGIN:STANDARD
TZOFFSETFROM:+0000
TZOFFSETTO:+0000
TZNAME:UTC
DTSTART:20200101T000000
END:STANDARD
END:VTIMEZONE
BEGIN:VEVENT
DTSTART;TZID=UTC:20200918T000000
DTEND;TZID=UTC:20200918T000000
DTSTAMP:20260425T163406
CREATED:20201002T010841Z
LAST-MODIFIED:20201002T011225Z
UID:385-1600387200-1600387200@ghpoa.com
SUMMARY:GHPOA Garage Sale Day 1
DESCRIPTION:
URL:https://ghpoa.com/event/ghpoa-garage-sale-day-1/
END:VEVENT
BEGIN:VEVENT
DTSTART;TZID=UTC:20200919T000000
DTEND;TZID=UTC:20200919T000000
DTSTAMP:20260425T163406
CREATED:20201002T010841Z
LAST-MODIFIED:20201002T011234Z
UID:386-1600473600-1600473600@ghpoa.com
SUMMARY:GHPOA Garage Sale Day 2
DESCRIPTION:
URL:https://ghpoa.com/event/ghpoa-garage-sale-day-2/
END:VEVENT
BEGIN:VEVENT
DTSTART;TZID=UTC:20200921T000000
DTEND;TZID=UTC:20200921T000000
DTSTAMP:20260425T163406
CREATED:20201002T010841Z
LAST-MODIFIED:20201002T011246Z
UID:387-1600646400-1600646400@ghpoa.com
SUMMARY:September 2020 GHPOA Board Meeting
DESCRIPTION:
URL:https://ghpoa.com/event/september-2020-ghpoa-board-meeting/
END:VEVENT
END:VCALENDAR