BEGIN:VCALENDAR
VERSION:2.0
PRODID:-//Geist Harbours Property Owners Association - ECPv6.14.2//NONSGML v1.0//EN
CALSCALE:GREGORIAN
METHOD:PUBLISH
X-ORIGINAL-URL:https://ghpoa.com
X-WR-CALDESC:Events for Geist Harbours Property Owners Association
REFRESH-INTERVAL;VALUE=DURATION:PT1H
X-Robots-Tag:noindex
X-PUBLISHED-TTL:PT1H
BEGIN:VTIMEZONE
TZID:America/Indiana/Indianapolis
BEGIN:DAYLIGHT
TZOFFSETFROM:-0500
TZOFFSETTO:-0400
TZNAME:EDT
DTSTART:20220313T070000
END:DAYLIGHT
BEGIN:STANDARD
TZOFFSETFROM:-0400
TZOFFSETTO:-0500
TZNAME:EST
DTSTART:20221106T060000
END:STANDARD
END:VTIMEZONE
BEGIN:VEVENT
DTSTART;TZID=America/Indiana/Indianapolis:20220718T180000
DTEND;TZID=America/Indiana/Indianapolis:20220718T200000
DTSTAMP:20260422T164801
CREATED:20211219T142914Z
LAST-MODIFIED:20211219T142914Z
UID:1584-1658167200-1658174400@ghpoa.com
SUMMARY:GHPOA Monthly Board Meeting
DESCRIPTION:July 18\, 2022 \nGHPOA Monthly Board Meeting \nIndianapolis Yacht Club \n12900 Fall Creek Road \nMcCordsville\, IN \nNote:  Public portion of the meeting will begin at approximately 6:30 p.m. \n 
URL:https://ghpoa.com/event/ghpoa-monthly-board-meeting-5/
LOCATION:Indianapolis Yacht Club\, 12900 Fall Creek Road\, McCordsville\, IN\, 46055\, United States
CATEGORIES:GHPOA Board Meeting
END:VEVENT
END:VCALENDAR