BEGIN:VCALENDAR
VERSION:2.0
PRODID:-//Geist Harbours Property Owners Association - ECPv6.14.2//NONSGML v1.0//EN
CALSCALE:GREGORIAN
METHOD:PUBLISH
X-ORIGINAL-URL:https://ghpoa.com
X-WR-CALDESC:Events for Geist Harbours Property Owners Association
REFRESH-INTERVAL;VALUE=DURATION:PT1H
X-Robots-Tag:noindex
X-PUBLISHED-TTL:PT1H
BEGIN:VTIMEZONE
TZID:UTC
BEGIN:STANDARD
TZOFFSETFROM:+0000
TZOFFSETTO:+0000
TZNAME:UTC
DTSTART:20210101T000000
END:STANDARD
END:VTIMEZONE
BEGIN:VEVENT
DTSTART;TZID=UTC:20210119T190000
DTEND;TZID=UTC:20210119T210000
DTSTAMP:20260425T102726
CREATED:20201125T220416Z
LAST-MODIFIED:20210110T182929Z
UID:874-1611082800-1611090000@ghpoa.com
SUMMARY:GHPOA Annual Meeting
DESCRIPTION:GHPOA Annual Meeting – \nDue to the ongoing pandemic and social distancing guidelines\, our Annual Meeting will be held VIRTUALLY on Tuesday\, January 19th\, from 7 to 9 p.m. A notice of this change of format and venue\, as well as a proxy form and biographies of the election nominees has been mailed to each resident. Included in the mailing is the information you need to join the meeting from your computer\, tablet or smart phone. You may also dial in using your phone. A quorum is required to conduct the business of this meeting. Therefore\, it is very important for you to fill out the proxy provided and return it as instructed. \nPlease retain the forthcoming letter so you have the information needed to participate in our virtual Annual Meeting. Should you lose this information\, please contact our property management company at 317-875-5600 so they may provide you with the information you need to participate.
URL:https://ghpoa.com/event/ghpoa-annual-meeting/
CATEGORIES:GHPOA Annual Meetings
END:VEVENT
END:VCALENDAR